BEGIN:VCALENDAR
VERSION:2.0
PRODID:-//hacksw/handcal//NONSGML v1.0//EN
BEGIN:VEVENT
CATEGORIES:Category,Community Events,Category,Employee Events,Category,Student Events,Location,Campus-Wide Event,featured,Yes
DESCRIPTION:25 Years Stronger: Looking Back, Moving Forward Encouraging campus-wide participation to wear the color teal to show support for Survivors and Prevention of Sexual Assault. Join us as SJC shows support for Sexual Assault Awareness Month - take a picture &amp; upload it so we can share it by 12 p.m. starting April 7, 2026 and throughout the month.&nbsp; Date April 7-30, 2026 Time All Day Location Campus-Wide Event
DTSTAMP:20260423T072350
DTSTART:20260407T000000
DTEND:20260430T235900
LOCATION:Campus-Wide Event
SUMMARY;LANGUAGE=en-us:Wear Teal Day
UID:7be5468cd8d16eec9ce90ce149ef5974@www.sanjuancollege.edu
END:VEVENT
BEGIN:VEVENT
CATEGORIES:Category,Art Gallery,Category,Community Events,Category,Fine and Performing Arts,Category,Student Events,Location,Henderson Fine Arts Center Gallery,featured,Yes
DESCRIPTION: Spring 2026 Student Exhibit  Two-dimensional and three-dimensional works will be on full display, including painting, drawing, photography and ceramics. This is one of the largest ranges of works created by San Juan College art students and instructors. Come enjoy one-of-a-kind art and add a new piece to your collection. Opening Reception  Friday, April 17, 2026 4 - 6 p.m. The Gallery is open during the reception.  Exhibit Dates and Times  This exhibit will run from April 17th - May 8, 2026  Gallery Hours   The Henderson Fine Arts Center Art Gallery is open Monday through Friday, from 10 a.m. to 5 p.m. and during most events in the Henderson Performance Hall. Contact For further information about this exhibit or other Gallery events, contact the&nbsp;Art Gallery&nbsp;at 505-566-3464.
DTSTAMP:20260423T072350
DTSTART:20260417T100000
DTEND:20260508T170000
LOCATION:Henderson Fine Arts Center Gallery
SUMMARY;LANGUAGE=en-us:Art Gallery: Student Art Exhibit
UID:20093fe9fb8d236f1234543165d762ca@www.sanjuancollege.edu
END:VEVENT
BEGIN:VEVENT
CATEGORIES:Category,Student Events,Location,Transfer Center, Located at The Student Center Building, Room 1606,featured,Yes
DESCRIPTION:Join us to hear all that Fort Lewis has to offer! Discover how our Transfer Center offers:  Expert guidance Academic planning Credit transfer assistance Application tips.  Bring your questions and leave with confidence about your path to transfer! Dates &amp; Times April 1, 2026 @ 11:00 a.m. - 2:00 p.m.April 15, 2026 @ 11:00 a.m. - 2:00 p.m.April 23, 2026 @ 11:00 a.m. - 2:00 p.m. Location Transfer Center Located at The Student Center Building, Room 1606
DTSTAMP:20260423T072350
DTSTART:20260401T110000
DTEND:20260401T140000
LOCATION:Transfer Center, Located at The Student Center Building, Room 1606
SUMMARY;LANGUAGE=en-us:Meet with Fort Lewis College!
UID:4f82a69bbb8e131d662544c9dfabeeeb@www.sanjuancollege.edu
END:VEVENT
BEGIN:VEVENT
CATEGORIES:Category,Student Events,Location,Tutoring Center Room 1611 or Via Zoom,featured,Yes
DESCRIPTION:Build Your Public Speaking Skills Learn how to plan, structure, and deliver a speech that clearly communicates your ideas and highlights your work. Workshop Highlights  Understand what makes a strong and effective Student Showcase presentation Organize your ideas using a clear and simple presentation structure Practice speaking techniques that help you connect with your audience Learn how to manage nerves and feel more confident when presenting Develop and refine ideas that highlight your project or academic work  Dates April 9 &amp; April 23 Time 12:00 p.m. - 2:00 p.m. Location Tutoring Center Room 1611 or Via Zoom
DTSTAMP:20260423T072350
DTSTART:20260409T120000
DTEND:20260409T140000
LOCATION:Tutoring Center Room 1611 or Via Zoom
SUMMARY;LANGUAGE=en-us:Showcase Prep Workshops: Public Speaking Workshop
UID:58815f912ec79f88815395aa38dbf29e@www.sanjuancollege.edu
END:VEVENT
BEGIN:VEVENT
CATEGORIES:Category,Community Events,Category,Student Events,Location,San Juan College Cultural Center (Parking Lot F),featured,Yes
DESCRIPTION:Let&rsquo;s Grow Something Together! Students, staff, and community members&mdash;claim your FREE tree seedling and be part of something bigger! Whether you're planting it at home, gifting it to a friend, or helping green up our community, this is your chance to make a lasting impact. Seedling Varieties Include:  Desert Willows English Oak Red Oak Burr Oak Small Northern Calalpa And other miscellaneous oaks!  Available while supplies last &mdash; one per person, first-come, first-served! Why? Because we&rsquo;re proud of our designation as a Tree Campus Higher Education since 2020 by the National Arbor Day Foundation.&nbsp;&nbsp; Come grab a tree. Plant the future. Date April 24, 2026 Time 8:00 a.m. - 10:00 a.m. Location San Juan College Cultural Center (Parking Lot F)
DTSTAMP:20260423T072350
DTSTART:20260424T080000
DTEND:20260424T100000
LOCATION:San Juan College Cultural Center (Parking Lot F)
SUMMARY;LANGUAGE=en-us:Arbor Day Tree Give-Away
UID:38c89f978b8c6d6272d85ca30077871c@www.sanjuancollege.edu
END:VEVENT
BEGIN:VEVENT
CATEGORIES:Category,Dual Credit Info Sessions,Category,Student Events,Location,Henderson Fine Arts Center Room 9010/9012, Suns Room or Zoom
DESCRIPTION:Enrollment Help Please bring your Parent/guardian email address and have your Social Security Number (if available). What To Expect  Walk through San Juan College's &nbsp;Career Pathways and Dual Credit classes Help students with the Dual Credit Enrollment process (Online Application and High School Admission Form) Discuss how to get registered for a Summer &amp; Fall 2026 college class  Don't miss out - Walk through San Juan College's Career Pathways and Dual Credit classes. Following the presentation, Dual Credit staff can assist students with the Dual Credit Enrollment process, the Online Application and High School Admission Form. Students will need their social security number and parent/guardian's email address. Dates, Times &amp; Locations  April 24, 2026 @ 6:00 p.m. - 7:30 p.m. | Henderson 9010 &amp; 9012April 27, 2026 @ 6:00 p.m. - 7:00 p.m. | Suns RoomApril 29, 2026 @ 6:00 p.m. - 7:30 p.m. | Suns Room Via Zoom For more information, contact Dual Credit at (505) 566-3320. 
DTSTAMP:20260423T072350
DTSTART:20260424T180000
DTEND:20260424T193000
LOCATION:Henderson Fine Arts Center Room 9010/9012, Suns Room or Zoom
SUMMARY;LANGUAGE=en-us:Dual Credit Information Session with Enrollment Help for Summer &amp; Fall 2026
UID:2ed91bc266eee4d1f802797f24363e86@www.sanjuancollege.edu
END:VEVENT
BEGIN:VEVENT
CATEGORIES:Category,Community Events,Category,Planetarium,Category,Student Events,Location,SJC Planetarium
DESCRIPTION:Showtimes&nbsp;  6:30 p.m. 7:30 p.m.  Admission  FREE Seating is on a first-come, first-served basis&mdash;maximum seating capacity of 60 in the planetarium. In order to preserve dark-adaption, there is no late admittance into the planetarium once the show has started!  Public Stargaze If weather permits, we will offer a free public stargaze with telescopes at 8:30 p.m. in the courtyard behind the planetarium after the last show. There is no capacity limit for the stargaze, which will last a maximum of one hour.&nbsp; More Information Contact David Mayeux (505) 566-3361 mayeux_d@sanjuancollege.edu Further information about Planetarium presentations is available on the&nbsp;SJC Planetarium Facebook page. The planetarium reserves the right to substitute shows. It is also possible (though not probable) for there to be a change in a show's date due to unforeseen circumstances.
DTSTAMP:20260423T072350
DTSTART:20260424T183000
DTEND:20260424T223000
LOCATION:SJC Planetarium
SUMMARY;LANGUAGE=en-us:FORWARD! To the Moon - Artemis Program
UID:dbee9b9e1ad545daf30c3715bae23493@www.sanjuancollege.edu
END:VEVENT
BEGIN:VEVENT
CATEGORIES:Category,Community Events,Category,Fine and Performing Arts,Category,Music Performances,Category,Student Events,Location,Henderson Performance Hall,featured,Yes
DESCRIPTION:E Pluribus Unum-- Out of Many, One.  This founding sentiment of the United States will be on full display at the SJC Band Spring Concert, featuring all works written by American composers.  Pieces like "As a River Flows" by Christina Huss will lull the audience into nostalgic bliss, while others such as "Variations on a Korean Folk Song" by John Barnes Chance and "America" from West Side Story will help us all appreciate the varied cultural influences and perspectives that enrich the American spirit. Enjoy the musical talents of our very own San Juan College Symphonic Band in their Spring 2026&nbsp;Semester Performance, under the direction of Melody Postoak. Admissions  General Public: $10 Student: FREE SJC Employees: FREE Senior/Encore/Military: $8  Buy Tickets For information contact the Box Office at 505-566-3430
DTSTAMP:20260423T072350
DTSTART:20260424T190000
DTEND:20260424T203000
LOCATION:Henderson Performance Hall
SUMMARY;LANGUAGE=en-us:SJC Symphonic Band Concert- E Pluribus Unum
UID:e6fa6fdd1a0bd40e91f6b61cdce1c54d@www.sanjuancollege.edu
END:VEVENT
BEGIN:VEVENT
CATEGORIES:Category,Community Events,Category,Student Events,Location, San Juan College Learning Commons Plaza
DESCRIPTION:Join us for this free family-friendly event and find out about an array of children's Summer activities!  Sycamore Community Park Farmington Public Library E3 Children's Museum San Juan College Kids Kollege Farmington Area Single Track (F.A.S.T)  D&iacute;a de los Ni&ntilde;os originated in Mexico in 1925 and is now embraced worldwide as a day to honor and recognize the invaluable role children play in our society. Exciting Activities  Balloon Art F.A.S.T. (Farmington Area Single Track) Bike Course Face Painting Games &amp; more!  For more information, call 505-566-3873.
DTSTAMP:20260423T072350
DTSTART:20260425T090000
DTEND:20260425T120000
LOCATION: San Juan College Learning Commons Plaza
SUMMARY;LANGUAGE=en-us:7th Annual D&iacute;a de los Ni&ntilde;o's
UID:be0de5ceda674429cc11ed7845f45d0a@www.sanjuancollege.edu
END:VEVENT
BEGIN:VEVENT
CATEGORIES:Category,Community Events,Category,Employee Events,Category,Student Events,Location,30th Street Education Center,featured,Yes
DESCRIPTION: We&rsquo;ve got you covered! Need resources, services, or support? We&rsquo;ve got you covered! Come to our&nbsp;FREE&nbsp;Community Resource Fair to explore helpful programs and connect face-to-face with 30 community agencies, all in one place. Stop by, learn what&rsquo;s available, and grab resources that can make a real difference. We&rsquo;d love to see you there!  Date April 25, 2026 Time 11:00 a.m. - 2:00 p.m. Location 30th Street Education Center
DTSTAMP:20260423T072350
DTSTART:20260425T110000
DTEND:20260425T140000
LOCATION:30th Street Education Center
SUMMARY;LANGUAGE=en-us:Steps to Success, Resource Fair
UID:ffcbf2de96acf72bf004e7ba07947f05@www.sanjuancollege.edu
END:VEVENT
BEGIN:VEVENT
CATEGORIES:Category,Community Events,Category,Employee Events,Category,Student Events,Location,Quality Center for Business,featured,Yes
DESCRIPTION:Money doesn&rsquo;t have to feel stressful. In this free workshop, you&rsquo;ll learn how to take control of your finances with simple, realistic budgeting strategies designed for student life. You&rsquo;ll learn how to:  Understand the real value of creating a budget (and why it&rsquo;s worth it) Build a simple, flexible budget you can actually stick to Tackle debt with smart, manageable strategies Develop everyday habits that support long-term financial health  Just practical tools to help you feel more confident and in control of your money. Reserve your seat! Date April 27, 2026 Time 1:00 - 2:00 p.m. Location Quality Center for Business
DTSTAMP:20260423T072350
DTSTART:20260427T130000
DTEND:20260427T140000
LOCATION:Quality Center for Business
SUMMARY;LANGUAGE=en-us:Budgeting Workshop
UID:6aa0de3146c634f6429ba54e4a3b518c@www.sanjuancollege.edu
END:VEVENT
BEGIN:VEVENT
CATEGORIES:Category,Dual Credit Info Sessions,Category,Student Events,Location,Henderson Fine Arts Center Room 9010/9012, Suns Room or Zoom
DESCRIPTION:Enrollment Help Please bring your Parent/guardian email address and have your Social Security Number (if available). What To Expect  Walk through San Juan College's &nbsp;Career Pathways and Dual Credit classes Help students with the Dual Credit Enrollment process (Online Application and High School Admission Form) Discuss how to get registered for a Summer &amp; Fall 2026 college class  Don't miss out - Walk through San Juan College's Career Pathways and Dual Credit classes. Following the presentation, Dual Credit staff can assist students with the Dual Credit Enrollment process, the Online Application and High School Admission Form. Students will need their social security number and parent/guardian's email address. Dates, Times &amp; Locations  April 24, 2026 @ 6:00 p.m. - 7:30 p.m. | Henderson 9010 &amp; 9012April 27, 2026 @ 6:00 p.m. - 7:00 p.m. | Suns RoomApril 29, 2026 @ 6:00 p.m. - 7:30 p.m. | Suns Room Via Zoom For more information, contact Dual Credit at (505) 566-3320. 
DTSTAMP:20260423T072350
DTSTART:20260424T180000
DTEND:20260424T193000
LOCATION:Henderson Fine Arts Center Room 9010/9012, Suns Room or Zoom
SUMMARY;LANGUAGE=en-us:Dual Credit Information Session with Enrollment Help for Summer &amp; Fall 2026
UID:b6019eb3b14e28358b46aa2e102c720e@www.sanjuancollege.edu
END:VEVENT
BEGIN:VEVENT
CATEGORIES:Category,Student Events,Location,Transfer Center,featured,Yes
DESCRIPTION:Come Explore Connect with an expert that can help you meet your goal of earning your Pharmacy Degree Discover how our Transfer Center offers:  Expert guidance Academic planning Credit transfer assistance Application tips.  Bring your questions and leave with confidence about your path to transfer! Date April 28, 2026 Time 10:00 a.m. - 4:00 p.m. Location Transfer Center&nbsp;
DTSTAMP:20260423T072350
DTSTART:20260428T100000
DTEND:20260428T160000
LOCATION:Transfer Center
SUMMARY;LANGUAGE=en-us:Meet with The University of New Mexico!
UID:1752746812f608769e90bc1caaddec81@www.sanjuancollege.edu
END:VEVENT
BEGIN:VEVENT
CATEGORIES:Category,Community Events,Category,Employee Events,Category,Student Events,Location,Quality Center for Business,featured,Yes
DESCRIPTION:Your credit can open doors or close them. Join us for a free, workshop with US Eagle Federal Credit Union and learn how to make it work for you. You&rsquo;ll learn how to:  Understand what a credit score really is and why it matters in your everyday life Break down your credit report so you actually know what you&rsquo;re looking at Build, maintain, and repair your credit using practical tools you can start using right away  Whether you're just getting started or trying to bounce back, this workshop will give you the confidence and knowledge to take control of your financial future. Reserve your seat! Date April 28, 2026 Time 1:00 - 2:00 p.m. Location Quality Center for Business
DTSTAMP:20260423T072350
DTSTART:20260428T130000
DTEND:20260428T140000
LOCATION:Quality Center for Business
SUMMARY;LANGUAGE=en-us:Credit Workshop
UID:6c8bc400e9f88ea7d2c28e2e1b0103b4@www.sanjuancollege.edu
END:VEVENT
BEGIN:VEVENT
CATEGORIES:Category,Community Events,Category,Employee Events,Category,Student Events,Location,All Day Campus-Wide Event,featured,Yes
DESCRIPTION:25 Years Stronger: Looking Back, Moving Forward Students and Employees participate by wearing jeans and/or other denim items and post to social media. Denim Day is an international protest responding to the Italian Supreme Court&rsquo;s overruling of a rape conviction in 1999. An Italian woman was raped, and when the case went to trial, the jury found the assailant guilty. The Supreme Court later overturned the ruling, saying that jeans are too difficult to remove and the assailant could not have done so without the victim&rsquo;s help. Show Off Your Look! Join us as SJC shows support for Sexual Assault Awareness Month - take a picture &amp; upload it so we can share it.&nbsp;Deadline to submit is 12 p.m. Wednesday, April 29 Date April 29, 2026 Time All Day Location Campus-Wide Event
DTSTAMP:20260423T072350
DTSTART:20260429T000000
DTEND:20260429T235900
LOCATION:All Day Campus-Wide Event
SUMMARY;LANGUAGE=en-us:Denim Day
UID:30adb654bb621513993aad9579618784@www.sanjuancollege.edu
END:VEVENT
BEGIN:VEVENT
CATEGORIES:Category,Student Events,Location,HHPC Entrance,featured,Yes
DESCRIPTION:Join in the fun! Learn about Occupational Therapy and the SJC OTA Program. Don't miss out on:  Activities Prizes Giveaways Raffles&nbsp;  Date April 29, 2026 Time 9:00 a.m. - 12:30 p.m. Location HHPC Entrance
DTSTAMP:20260423T072350
DTSTART:20260429T090000
DTEND:20260429T123000
LOCATION:HHPC Entrance
SUMMARY;LANGUAGE=en-us:Occupational Therapy Month Celebration!
UID:d13ba50d23af38201964ff5baf8c1fea@www.sanjuancollege.edu
END:VEVENT
BEGIN:VEVENT
CATEGORIES:Category,Student Events,Location,Transfer Center Located at The Student Center Building, Room 1606,featured,Yes
DESCRIPTION:Join us to hear all that UNM has to offer! If you're a San Juan College Student looking to grow your education and earn a bachelor's degree, please come by. Discover how our Transfer Center offers:  Expert guidance Academic planning Credit transfer assistance Application tips.  Bring your questions and leave with confidence about your path to transfer! Dates &amp; Times April 29, 2026 @ 9:30 a.m. - 1:00 p.m.May 7, 2026 @ 10:30 a.m. - 2:00 p.m. Location Transfer Center Located at The Student Center Building, Room 1606
DTSTAMP:20260423T072350
DTSTART:20260416T093000
DTEND:20260416T130000
LOCATION:Transfer Center Located at The Student Center Building, Room 1606
SUMMARY;LANGUAGE=en-us:Meet with The University of New Mexico!
UID:43bf4330a1103e7a6f66e30356311f5a@www.sanjuancollege.edu
END:VEVENT
BEGIN:VEVENT
CATEGORIES:Category,Community Events,Category,Employee Events,Category,Food for Thought,Category,Student Events,Location,Sun’s Lounge outside the TrailBlaze Cupboard,featured,Yes
DESCRIPTION:Each month, Food for Thought highlights a fruit or vegetable as our Food of the Month! Come by to explore fun nutritional facts, taste delicious sample recipes, and pick up fresh produce to take home. It&rsquo;s a great way to try something new and add healthy foods to your routine. Date April 29, 2026 Time 11:00 a.m. - 12:30 p.m. Location Sun&rsquo;s Lounge outside the TrailBlaze Cupboard
DTSTAMP:20260423T072350
DTSTART:20260429T110000
DTEND:20260429T123000
LOCATION:Sun&rsquo;s Lounge outside the TrailBlaze Cupboard
SUMMARY;LANGUAGE=en-us:Food for Thought - Food of the Month
UID:51870b044f2a0081dfd9a16ca7469bb7@www.sanjuancollege.edu
END:VEVENT
BEGIN:VEVENT
CATEGORIES:Category,Community Events,Category,Employee Events,Category,Student Events,Location,Outside the Student Resource Center Room 1612,featured,Yes
DESCRIPTION:Together We Act, United We Change Sexual Assault Services of Northwest New Mexico will be on campus to share information about their counseling, advocacy, and community education programs. Stop by to learn about available resources, ask questions, and connect with supportive services. Date April 29, 2026 Time 11:00 a.m. - 1:00 p.m. Location Outside the Student Resource Center Room 1612
DTSTAMP:20260423T072350
DTSTART:20260429T110000
DTEND:20260429T130000
LOCATION:Outside the Student Resource Center Room 1612
SUMMARY;LANGUAGE=en-us:Sexual Assault Awareness Resource Event
UID:3fdda22cfbcc4332d8edf20630b9341a@www.sanjuancollege.edu
END:VEVENT
BEGIN:VEVENT
CATEGORIES:Category,Community Events,Category,Employee Events,Category,Student Events,Location,Sun's Lounge,featured,Yes
DESCRIPTION:25 Years Stronger: Looking Back, Moving Forward Resource table highlighting sexual assault awareness and available support services, including counseling, advocacy, SANE services, and community education programs. Information provided by Sexual Assault Services of Northwest New Mexico. Sponsored by: Student Resource Center Date April 29, 2026 Time 11:00 a.m. - 1:00 p.m. Location Sun's Lounge For information, email Becky Loev, loevr@sanjuancollege.edu or call (505) 566-4282 / (505) 5663378.
DTSTAMP:20260423T072350
DTSTART:20260429T110000
DTEND:20260429T130000
LOCATION:Sun's Lounge
SUMMARY;LANGUAGE=en-us:Sexual Assault Awareness
UID:6bc630f8d356825fa0ca2e7052bcfee8@www.sanjuancollege.edu
END:VEVENT
END:VCALENDAR

