BEGIN:VCALENDAR
VERSION:2.0
BEGIN:VEVENT
CATEGORIES:Category,Community Events,Category,Fine and Performing Arts,Category,Music Performances,Location,Connie Gotsch Theatre,featured,Yes
DESCRIPTION:Enjoy an evening with the SJC African Drumming Ensemble. The performance will be held in the Connie Gotsch Theatre beginning at 7 pm. The exciting and vibrant African Drumming Ensemble will perform a high-energy, outstanding World Music performance of West African drumming and dance music from Guinea and Mali. This music represents kinship, collaboration, improvisation, innovative rhythmic interplay, and audience involvement! The tunes will include:  Garangedon Makru Madan Mamaya Matadi Moribayassa Tiriba Toro  Date This event has been CANCELED. Please contact the Henderson Fine Arts Center Box Office for Ticket refunds at (505) 566-3430.
DTSTAMP:20260423T062029
DTSTART:20241220T190000
DTEND:20241220T210000
LOCATION:Connie Gotsch Theatre
SUMMARY;LANGUAGE=en-us:CANCELED SJC African Drumming Ensemble
UID:cce1ffbec381281e3779c20a5755c84c@www.sanjuancollege.edu
END:VEVENT
END:VCALENDAR

