BEGIN:VCALENDAR
VERSION:2.0
BEGIN:VEVENT
CATEGORIES:Category,Community Events,Category,Student Events,Location,Health and Human Performance Center,featured,Yes
DESCRIPTION:Join us for a pickleball tournament supporting the San Juan College Foundation!&nbsp; Get Your Team Together on Pickleball den! Tournament Timezone: MountainEntry Fee: $25 to register, $25 per event Register Today! Date January 23-25, 2026 Time 8:00 a.m. - 3:00 p.m. Location Health and Human Performance Center Schedule  Friday, January 23: 5:30 p.m. - 7:30 p.m. Tournament Reception, Raffle and Open Play Mixer&nbsp;(Tickets $10 per guest) Saturday, January 24: Men's and Women's Doubles Round Robin at 8:00 a.m. Sunday. January 25: Mixed Doubles Round Robin at 8:00 a.m.  For information contact: LeAnn Magnuson SJCF Tournament Director at magnusonl@sanjuancollege.edu or (505) 566-3522.
DTSTAMP:20260422T125550
DTSTART:20260123T080000
DTEND:20260123T170000
LOCATION:Health and Human Performance Center
SUMMARY;LANGUAGE=en-us:Pickleball Tournament
UID:c5db8aa490892ec80d2c91730acfa279@www.sanjuancollege.edu
END:VEVENT
END:VCALENDAR

