BEGIN:VCALENDAR
VERSION:2.0
BEGIN:VEVENT
CATEGORIES:Category,Community Events,Category,Planetarium,Category,Student Events,Location,San Juan College Planetarium,featured,Yes
DESCRIPTION:The Planetarium's April AstroFriday presentation with guest speaker Mark Everson. He will speak on the subject of micrometeorites and their &ldquo;craters&rdquo; that they leave behind.&nbsp; Showtimes&nbsp;  6:30 p.m. 7:30 p.m.  Admission  FREE Seating is on a first-come, first-served basis&mdash;maximum seating capacity of 60 in the planetarium. In order to preserve dark-adaption, there is no late admittance into the planetarium once the show has started!  Public Stargaze If weather permits, we will offer a free public stargaze with telescopes at 8:30 p.m. in the courtyard behind the planetarium after the last show. There is no capacity limit for the stargaze, which will last a maximum of one hour.&nbsp; Come and observe with us the King of the Planets, Jupiter, the Ringed Planet, Saturn, and the colorful binary star, Gamma Andromedae!&nbsp; If weather conditions are particularly favorable, we may also see such deep-sky objects as the glittering Double Cluster in Perseus, the fanciful &ldquo;E.T. Cluster&rdquo; in Cassiopeia, the glorious Andromeda Galaxy, the Pleiades star cluster, and the majestic Orion Nebula!&nbsp;&nbsp;&nbsp; More Information Contact David Mayeux (505) 566-3361 mayeux_d@sanjuancollege.edu Further information about Planetarium presentations is available on the&nbsp;SJC Planetarium Facebook page. The planetarium reserves the right to substitute shows. It is also possible (though not probable) for there to be a change in a show's date due to unforeseen circumstances.
DTSTAMP:20260423T063103
DTSTART:20250404T183000
DTEND:20250404T213000
LOCATION:San Juan College Planetarium
SUMMARY;LANGUAGE=en-us:Micrometeorites
UID:e2885701c25485f4080ea1f1df551606@www.sanjuancollege.edu
END:VEVENT
END:VCALENDAR

