BEGIN:VCALENDAR
VERSION:2.0
BEGIN:VEVENT
CATEGORIES:Category,Cinematheque,Category,Community Events,Category,Fine and Performing Arts,Category,Student Events,Location,Connie Gotsch Theatre,featured,Yes
DESCRIPTION:TBA Write you favorite childhood memory on our memory board in the lobby. Water and Popcorn are available for purchase. Bring your own water bottle to fill up and receive a free popcorn!  Admissions   General Public: $2  Buy Tickets Date November 8, 2025 Screen Times "Our Town" - 2:00 p.m. "It's a Wonderful Life" - 3:45 p.m. Location Connie Gotsch Theatre 
DTSTAMP:20260423T092642
DTSTART:20251108T140000
DTEND:20251108T160000
LOCATION:Connie Gotsch Theatre
SUMMARY;LANGUAGE=en-us:&quot;Senior Moments&quot; Movie Day - Our Town and It's a Wonderful Life
UID:6b2ca40ccce661fbd3b374324adc9618@www.sanjuancollege.edu
END:VEVENT
END:VCALENDAR

