BEGIN:VCALENDAR
VERSION:2.0
BEGIN:VEVENT
CATEGORIES:Category,Artists Series,Category,Community Events,Category,Fine and Performing Arts,Category,Student Events,Location,Henderson Performance Hall,featured,Yes
DESCRIPTION:Children of Metropolis is the latest production by Scrap Arts Music. It features over 88 self-made sculptural instruments, sixteen all-original music compositions, Scrap Arts Music&rsquo;s signature action-choreography, and a whimsical full-length movie of our own making that shows while the musicians perform live.With a retro-futuristic, sci-fi vibe that takes visual inspiration from German films of the 1920s, Scrap Arts Music&rsquo;s Children of Metropolis is a fast-paced, all-acoustic percussive bonanza with five musicians bringing their original score to heart-pounding life. Admissions   General Admission $25 Students $10 Faculty/Staff $15 Encore $23 Senior 65+ $23  Buy Tickets
DTSTAMP:20260423T062812
DTSTART:20240413T160000
DTEND:20240413T180000
LOCATION:Henderson Performance Hall
SUMMARY;LANGUAGE=en-us:Scrap Arts Music
UID:7620ccdc93c239823d40cce75197e11a@www.sanjuancollege.edu
END:VEVENT
END:VCALENDAR

