BEGIN:VCALENDAR
VERSION:2.0
BEGIN:VEVENT
CATEGORIES:Category,Community Events,Category,Fine and Performing Arts,Category,Music Performances,Category,San Juan Symphony,Location,Henderson Performance Hall,featured,Yes
DESCRIPTION:Enjoy an afternoon performance by the San Juan Symphony titled "Enigmatic". The performance will be held in the Henderson Performance Hall at 3 p.m. Admissions  General Public: $30 Student: $10 SJC Employees: $30 Senior/Encore/Military: $23  Buy Tickets &nbsp;
DTSTAMP:20260423T103745
DTSTART:20240421T150000
DTEND:20240421T170000
LOCATION:Henderson Performance Hall
SUMMARY;LANGUAGE=en-us:San Juan Symphony &quot;Enigmatic&quot;
UID:f7182af4389fd61987b71815196c07ae@www.sanjuancollege.edu
END:VEVENT
END:VCALENDAR

