BEGIN:VCALENDAR
VERSION:2.0
BEGIN:VEVENT
CATEGORIES:Category,Cinematheque,Category,Community Events,Location,Connie Gotsch Theatre,featured,Yes
DESCRIPTION:Join us for this Earth Day presentation of Plastic Earth by Cinematheque in the Connie Gotsch Theatre beginning at 6 p.m. Admissions  $5  Buy Tickets &nbsp;
DTSTAMP:20260423T062551
DTSTART:20240422T180000
DTEND:20240422T200000
LOCATION:Connie Gotsch Theatre
SUMMARY;LANGUAGE=en-us:Plastic Earth
UID:194300f51da451d0a6a89474771f41dc@www.sanjuancollege.edu
END:VEVENT
END:VCALENDAR

