BEGIN:VCALENDAR
VERSION:2.0
BEGIN:VEVENT
CATEGORIES:Category,Community Events,Category,Fine and Performing Arts,Category,Music Performances,Category,San Juan Symphony,Location,Henderson Performance Hall,featured,Yes
DESCRIPTION:Bring the whole family for Lemony Snicket Investigates!, a Family Concert performance by the San Juan Symphony. The performance will be held in the Henderson Performance Hall at 2 p.m. Admissions:   General Public: $30 Student: $10 SJC Employees: $30 Senior/Encore/Military: $23  Buy Tickets &nbsp;
DTSTAMP:20260423T105558
DTSTART:20240519T140000
DTEND:20240519T160000
LOCATION:Henderson Performance Hall
SUMMARY;LANGUAGE=en-us:San Juan Symphony Family Concert Lemony Snicket Investigates!
UID:2ef7a9098f1d341cb9bc5a9ce6f0e32b@www.sanjuancollege.edu
END:VEVENT
END:VCALENDAR

