BEGIN:VCALENDAR
VERSION:2.0
BEGIN:VEVENT
CATEGORIES:Category,Dual Credit Orientation,Location,Zia Conference Center
DESCRIPTION:Attending an orientation is essential to learning how to start your summer class and is critical to your success in the college environment. Parents/family/mentors are welcome to join their student.&nbsp; Orientation Agenda  We will show you how to log in to your class Discuss the differences between college and high school Explain student resources, and so much more!  Date June 5, 2025 Time 7:00 p.m. - 8:30 p.m. Location Zia Conference Center For more information, contact the Dual Credit Program at 505-566-3443.
DTSTAMP:20260423T092510
DTSTART:20250605T190000
DTEND:20250605T203000
LOCATION:Zia Conference Center
SUMMARY;LANGUAGE=en-us:Dual Credit Orientation for Summer 2025
UID:6f44070dbc83395278671d38a60fdbae@www.sanjuancollege.edu
END:VEVENT
END:VCALENDAR

