BEGIN:VCALENDAR
VERSION:2.0
BEGIN:VEVENT
CATEGORIES:Category,Dual Credit Info Sessions,Location,Suns Room (Inside SJC's Student Center)
DESCRIPTION:Get the Tools You Need to Succeed Students planning to take a Dual Credit class in Spring 2025 can begin enrollment&nbsp;now. Please bring:  Parent/guardian's email address Social Security Number (if available)  We will:  Walk through San Juan College's Career Pathways and Dual Credit classes Help students with the Dual Credit Enrollment process (Online Application and High School Admission Form) Discuss how to get registered for a Spring 2025 college class  Attending an info session is essential to learning how to start your spring class and is critical to your success in the college environment. Parents/family/mentors are welcome to join their student.&nbsp; Date October 10, 2024 Time 6:30 pm - 7:30 pm Location Suns Room (Inside SJC's Student Center) For more information, contact the Dual Credit Program at 505-566-3443.
DTSTAMP:20260423T062935
DTSTART:20241010T183000
DTEND:20241010T193000
LOCATION:Suns Room (Inside SJC's Student Center)
SUMMARY;LANGUAGE=en-us:Dual Credit Information Session with Enrollment Help for Spring 2025
UID:23bde9d7bcaae759520e2008ca75d1d8@www.sanjuancollege.edu
END:VEVENT
END:VCALENDAR

