BEGIN:VCALENDAR
VERSION:2.0
BEGIN:VEVENT
CATEGORIES:Category,Dual Credit Info Sessions,Category,Student Events,Location,Henderson Fine Arts Center, Room 9010
DESCRIPTION:Get the Tools You Need to Succeed Students planning to take a Dual Credit class in Spring 2025 can begin enrollment&nbsp;now. Please bring:  Parent/guardian's email address Social Security Number (if available)  We will:  Walk through San Juan College's Career Pathways and Dual Credit classes Help students with the Dual Credit Enrollment process (Online Application and High School Admission Form) Discuss how to get registered for a Spring 2025 college class  Attending an orientation is essential to learning how to start your spring class and is critical to your success in the college environment. Parents/family/mentors are welcome to join their student.&nbsp; Date November 18, 2024 Time 6:00 pm - 8:00 pm Location Henderson Fine Arts Center, Room 9010 For more information, contact the Dual Credit Program at 505-566-3443.
DTSTAMP:20260423T092827
DTSTART:20241118T180000
DTEND:20241118T193000
LOCATION:Henderson Fine Arts Center, Room 9010
SUMMARY;LANGUAGE=en-us:Dual Credit Information Session with Enrollment Help for Spring 2025
UID:ebf8e1f8d12c7de573b3a67f6253f756@www.sanjuancollege.edu
END:VEVENT
END:VCALENDAR

