BEGIN:VCALENDAR
VERSION:2.0
BEGIN:VEVENT
CATEGORIES:Category,Dual Credit Orientation,Category,Student Events,Location,Explore more for Orientation Locations!
DESCRIPTION:Get a Head Start on Success! Join us for this Orientation session for students interested in taking Dual Credit classes! High School Students taking their first Dual Credit class this Fall are encouraged to attend a Dual Credit Orientation. Attending an orientation is essential to learning how to start your Fall class and is critical to your success in the college environment. Sessions are led by Dual Credit Student Ambassadors (Experienced High School Students). Parents/family/mentors are welcome to join their student. Orientation Agenda  How to log in to your class Discuss the differences between college and high school An overview of student resources and MORE!  Dates, Times &amp; Locations August 18, 2025 @ 6:00 p.m. in the Zia Conference CenterAugust 23, 2025 @ 1:00 p.m. in the Henderson 9008-9010August 25, 2025 @ 6:00 p.m. in the Zia Conference CenterAugust 26, 2025 @ 6:00 p.m. via Zoom For more information, contact the Dual Credit program at (505) 566-3443. 
DTSTAMP:20260423T104139
DTSTART:20250818T180000
DTEND:20250818T200000
LOCATION:Explore more for Orientation Locations!
SUMMARY;LANGUAGE=en-us:Dual Credit Orientations Session Fall 2025
UID:1b3618e7ee89785304acee1b9d19afeb@www.sanjuancollege.edu
END:VEVENT
END:VCALENDAR

