BEGIN:VCALENDAR
VERSION:2.0
BEGIN:VEVENT
CATEGORIES:Category,Community Events,Category,Native American Center,Category,Student Events,Location,Henderson Fine Arts Center 9000 Rooms,featured,Yes
DESCRIPTION:Get into the Festive Spirit Get ready to immerse yourself in the vibrant world of Native arts and crafts at the 2025 Native Arts &amp; Crafts Christmas Bazaar hosted by the San Juan College Native American Center! This festive event promises a unique shopping experience of creativity, culture, and community spirit. Whether you're looking for the perfect holiday gift or want to explore, this is an event you won&rsquo;t want to miss! FREE Admission - Everyone is welcome!&nbsp; Date December 3, 2025 Time 9:00 am - 6:00 pm Location Henderson Fine Arts Center 9000 Rooms For more information, please contact the Native American Center at (505) 566-3311.
DTSTAMP:20260423T063017
DTSTART:20251203T090000
DTEND:20251203T180000
LOCATION:Henderson Fine Arts Center 9000 Rooms
SUMMARY;LANGUAGE=en-us:Christmas Bazaar
UID:c8b12314f134ffc490186d8b0bc17ab0@www.sanjuancollege.edu
END:VEVENT
END:VCALENDAR

