BEGIN:VCALENDAR
VERSION:2.0
BEGIN:VEVENT
CATEGORIES:Category,Community Events,Category,Student Events,Location,Henderson Fine Arts Center Performance Hall
DESCRIPTION:This vibrant showcase, featuring over 10 local studios and classes, promises to be an unforgettable night filled with talent and holiday cheer, all in support of Kids Kollege scholarships. This year, we&rsquo;re thrilled to announce that Big Red Tool, Inc. is the exclusive sponsor of this inspiring event, generating vital support for the Kids Kollege Scholarship Fund through the San Juan College Foundation.Thanks to the remarkable generosity of Big Red Tool, Inc., the San Juan College Foundation has established an endowment that will ensure the Kids Kollege program thrives for generations to come. Join us for an evening of breathtaking performances and heartfelt giving, where every moment contributes to a brighter future for our youth! Admissions  General Admission Tickets for $10 &amp; $15 Children 5 and Under FREE  Buy Tickets! Date November 21, 2025 Time 7:00 p.m. Location Henderson Fine Arts Center Performance Hall
DTSTAMP:20260423T062311
DTSTART:20251121T190000
DTEND:20251121T210000
LOCATION:Henderson Fine Arts Center Performance Hall
SUMMARY;LANGUAGE=en-us:Holiday Spectacular
UID:02e6b1b360ec66b8545036e81ee2e151@www.sanjuancollege.edu
END:VEVENT
END:VCALENDAR

