BEGIN:VCALENDAR
VERSION:2.0
BEGIN:VEVENT
CATEGORIES:Category,Community Events,Category,Native American Center,Category,Student Events,Location,Suns Lounge (above Mary's Kitchen),featured,Yes
DESCRIPTION:What is a Navajo Shoe Game?(in Navajo: k&eacute;shj&eacute;&eacute;; pronounced: Kesh-jeh) It is a Navajo winter social guessing game, played during the night. Teams play against each other to find a hidden ball inside a shoe/moccasin. Tactics and strategies are used to distract players during the guessing game process. In Navajo culture, the game originated between day and night animals. Animals wanted it to either be day or night all the time. A contest was played amongst the creatures in an attempt to determine whether it be always day or night. About Kevin Belin Kevin Belin (Navajo/Din&eacute;) is the Navajo Language teacher at Navajo Prep, with more than a decade of experience in education. He shares his extensive expertise through presentations, training sessions, and workshops for both educators and students. Do I have to be Navajo to play? No. This event is open to all students and the community. You may participate in the game or watch and enjoy with the community. Is there a fee? No. This is free Will there be food and drinks? Yes. Food and drinks will be provided. Is this a family-friendly event? Yes, absolutely. This event is on school grounds. Drugs and alcohol are prohibited on campus. Date January 29, 2026 Time 6:00 p.m. - 9:00 p.m. Location Suns Lounge (above Mary's Kitchen) For more information, email NAC@sanjuancollege.edu or call (505) 566-3321
DTSTAMP:20260423T010420
DTSTART:20260129T180000
DTEND:20260129T210000
LOCATION:Suns Lounge (above Mary's Kitchen)
SUMMARY;LANGUAGE=en-us:Navajo Shoe Game with Kevin Belin
UID:52c3ff69a99510103c8997906cd33cb4@www.sanjuancollege.edu
END:VEVENT
END:VCALENDAR

