BEGIN:VCALENDAR
VERSION:2.0
BEGIN:VEVENT
CATEGORIES:Category,Community Events,Category,Student Events,Location,Henderson Fine Arts 9010/9012,featured,Yes
DESCRIPTION:Plan Your Future The 2025 NMCAC College Fair is your chance to connect directly with colleges and universities. We are excited to share that several colleges will be in attendance, including:  San Juan College New Mexico Highlands University Western New Mexico University Eastern New Mexico University University of New Mexico Lincoln Tech  Learn about admissions, programs, and scholarships to help you take the next step after graduation. Seniors: Don&rsquo;t miss this opportunity to plan your future! Juniors are also welcome to start exploring their options early. Date September 9, 2025 Time 10:45 a.m. - 12:00 p.m. Locations Henderson Fine Arts 9010/9012
DTSTAMP:20260423T092433
DTSTART:20250909T104500
DTEND:20250909T120000
LOCATION:Henderson Fine Arts 9010/9012
SUMMARY;LANGUAGE=en-us:2025 NMCAC College Fair at San Juan College
UID:b144d3ae2cec4e970d808e93df4f2320@www.sanjuancollege.edu
END:VEVENT
END:VCALENDAR

