BEGIN:VCALENDAR
VERSION:2.0
BEGIN:VEVENT
CATEGORIES:Category,Community Events,Category,Harvest Food Hub,Category,Student Events,Location,310 West Animas, Northern Navajo Medical Center, SJC Main Campus West Classroom Complex
DESCRIPTION:A Taste of Local Freshness Discover the best of local, farm-fresh produce with the Harvest Food Box Subscription. Each week, you'll receive a curated selection of 7 to 9 seasonal produce items sourced directly from the heart of our local community. Our produce is handpicked from trusted farms like Elders Greenhouse &amp; Garden, Gathings Gardens, and Bridgewater Gardens, ensuring the highest quality and freshest ingredients. Sign up today and experience the joy of eating fresh, local produce while supporting sustainable farming practices.&nbsp; Subscribe today! Dates July 24 - October 9 : Pick up is every Thursday&nbsp; Locations &amp; Times 310 West Animas, The Harvest Food Hub @ 3:00 p.m. - 6:30 p.m.Northern Navajo Medical Center @ 12:00 p.m. - 1:00 p.m.SJC Main Campus @ 4:00 p.m. - 6:00 p.m.
DTSTAMP:20260423T103611
DTSTART:20250724T100000
DTEND:20250724T170000
LOCATION:310 West Animas, Northern Navajo Medical Center, SJC Main Campus West Classroom Complex
SUMMARY;LANGUAGE=en-us:Harvest Farm Box
UID:ae566dd4965306c8444b3a454656e104@www.sanjuancollege.edu
END:VEVENT
END:VCALENDAR

