BEGIN:VCALENDAR
VERSION:2.0
BEGIN:VEVENT
CATEGORIES:Category,Cinematheque,Category,Community Events,Category,Fine and Performing Arts,Category,Student Events,Location,Connie Gotsch Theatre,featured,Yes
DESCRIPTION:Rated PG13. Join us for an evening of this season&rsquo;s Cinematheque Series celebrating beloved books on film. The 2013 movie based on the first of the dystopian trilogy by Suzanne Collins, features Jennifer Lawrence as &ldquo;Katniss&rdquo;, the 16 year old heroine who volunteers herself in place of her younger sister to participate in the yearly televised games. Preshow activities include Survival Skills Demo at 6:30 p.m. Water and Popcorn available for purchase. Bring your own water bottle to fill and receive a free popcorn! Admissions  General Public: $5  Buy Tickets Date October 4, 2025 Time 6:30 p.m. Survival Skills Demo7:00 p.m. Showtime Location Connie Gotsch Theatre
DTSTAMP:20260423T092152
DTSTART:20251004T183000
DTEND:20251004T210000
LOCATION:Connie Gotsch Theatre
SUMMARY;LANGUAGE=en-us:Hunger Games
UID:2a922becb92df29ba83dfd29ed24c9f2@www.sanjuancollege.edu
END:VEVENT
END:VCALENDAR

