BEGIN:VCALENDAR
VERSION:2.0
BEGIN:VEVENT
CATEGORIES:Category,Community Events,Location,San Juan College Dental Clinic at the HHPC
DESCRIPTION:FREE Dental services for children ages 5-12 Services Available:  x-rays filings cleanings fluorides tooth sealants  How to Make an Appointment Appointments are through the San Juan College Dental Clinic. Call the Clinic, Monday-Thursday, 9am-4pm (505)566-3126.&nbsp;Please leave a message and they will return your call. Child must be accompanied by a parent or guardian. WALK-INS CANNOT BE SEEN. Event sponsored by the Northwest District Dental Society, community dentists, dental hygienists, dental hygiene students, staff, faculty, and San Juan College.&nbsp; Date February 6, 2026 Time 8:00 a.m. - 4:00 p.m. Location San Juan College Dental Clinic at the HHPC
DTSTAMP:20260423T152258
DTSTART:20260206T080000
DTEND:20260206T160000
LOCATION:San Juan College Dental Clinic at the HHPC
SUMMARY;LANGUAGE=en-us:Give Kids a Smile Day
UID:57083cd2b37aa92b9c0fb9e57293445a@www.sanjuancollege.edu
END:VEVENT
END:VCALENDAR

