BEGIN:VCALENDAR
VERSION:2.0
BEGIN:VEVENT
CATEGORIES:Category,Cinematheque,Category,Community Events,Category,Fine and Performing Arts,Category,Student Events,Location,Connie Gotsch Theatre,featured,Yes
DESCRIPTION:Rated PG13. Join us for an evening of this season&rsquo;s Cinematheque Series celebrating beloved books on film. Featuring Gregory Peck in this 1962 movie adaptation of Harper Lee&rsquo;s celebrated Southern Gothic novel.&nbsp; The most beloved and wildly read Pulitzer Prize Winner now comes vividly alive on screen! Preshow activities include a guest speaker at 6:30.Water and Popcorn available for purchase. Bring your own water bottle to fill and receive a free popcorn! Admissions  General Public: $5  Buy Tickets Date September 13, 2025 Time 6:30 p.m. Preshow&nbsp;7:00 p.m. Showtime Location Connie Gotsch Theatre
DTSTAMP:20260423T062202
DTSTART:20250913T183000
DTEND:20250913T210000
LOCATION:Connie Gotsch Theatre
SUMMARY;LANGUAGE=en-us:To Kill a Mockingbird
UID:bcbce6435a8baa9d373c19bf3b32fb14@www.sanjuancollege.edu
END:VEVENT
END:VCALENDAR

