BEGIN:VCALENDAR
VERSION:2.0
BEGIN:VEVENT
CATEGORIES:Category,Community Events,Category,One Book One Community,Category,Student Events,Location,Room 7103
DESCRIPTION:Join us for a block of mini fiction-writing exercises from our four Creative Writing faculty in the English Department.  AJ Odasso Kim Henderson Travis Wade  The San Juan College community and the general public are welcome! Date November 20, 2025 Time 5:30 pm - 7:00 pm Location Room 7103
DTSTAMP:20260423T062112
DTSTART:20251120T173000
DTEND:20251120T193000
LOCATION:Room 7103
SUMMARY;LANGUAGE=en-us:One Book One Community - Creative Writing Workshop
UID:72da12040d2dd250dbdd2edf20e02219@www.sanjuancollege.edu
END:VEVENT
END:VCALENDAR

