BEGIN:VCALENDAR
VERSION:2.0
BEGIN:VEVENT
CATEGORIES:Category,Community Events,Category,Sports & Recreation,Category,Student Events,Location,HHPC
DESCRIPTION:Join us for some classic dodgeball just the way your PE teacher ran it. Show up as a team or an individual. You don't need to register; this is a FREE event! Date November 6, 2025 Time 6:00 p.m. Location HHPC For more information, 505-566-3819.
DTSTAMP:20260423T092659
DTSTART:20251106T180000
DTEND:20251106T200000
LOCATION:HHPC
SUMMARY;LANGUAGE=en-us:Dodgeball
UID:d46a33c538ee6169349ef4b1d308e097@www.sanjuancollege.edu
END:VEVENT
END:VCALENDAR

