BEGIN:VCALENDAR
VERSION:2.0
BEGIN:VEVENT
CATEGORIES:Category,Student Events,Location,Studio 101 (Room 1220) East Classroom Complex
DESCRIPTION:Drop by and pick out an outfit for the Career Fair or your next Job Interview.&nbsp; For more information: careercenter@sanjuancollege.edu or 505-566-3423
DTSTAMP:20260423T043459
DTSTART:20250409T153000
DTEND:20250409T170000
LOCATION:Studio 101 (Room 1220) East Classroom Complex
SUMMARY;LANGUAGE=en-us:Career Closet Pop-Up
UID:46f702633b1a12e7b32abbb231839bf9@www.sanjuancollege.edu
END:VEVENT
END:VCALENDAR

