BEGIN:VCALENDAR
VERSION:2.0
BEGIN:VEVENT
CATEGORIES:Category,Student Events,Location,School of Trades and Technology
DESCRIPTION:Automotive and diesel students and graduates are invited to meet with employers to discover employment opportunities.&nbsp; For more information: careercenter@sanjuancollege.edu or 505-566-3423
DTSTAMP:20260423T062428
DTSTART:20240416T100000
DTEND:20240416T140000
LOCATION:School of Trades and Technology
SUMMARY;LANGUAGE=en-us:Automotive &amp; Diesel Industry Day
UID:e29ecd23ff12d0da1ac1cca3c3c14dc6@www.sanjuancollege.edu
END:VEVENT
END:VCALENDAR

