BEGIN:VCALENDAR
VERSION:2.0
BEGIN:VEVENT
CATEGORIES:Category,Cinematheque,Category,Community Events,Category,Fine and Performing Arts,Category,Student Events,Location,Connie Gotsch Theatre,featured,Yes
DESCRIPTION:Join us for an afternoon of classic cartoons as we kick of this season's Cinematheque Series at the beautiful Connie Gotsch Theatre.&nbsp; Special $2 ticket includes screenings of Gulliver's Travels, Jack and the Beanstalk, and Superman Cartoons.&nbsp; Purchase tickets in advance or at the door. Preshow Activities: Audience members are encouraged to come dressed as your favorite storybook character and make their very own storybook, starting at 1:30! Admissions  General Public: $2&nbsp;  Buy Tickets Date August 16, 2025 Time 1:30 p.m. (Preshow Activities)&nbsp;2:00 p.m. - 4:00 p.m. Showtime Location Connie Gotsch Theatre
DTSTAMP:20260423T062734
DTSTART:20250816T133000
DTEND:20250816T160000
LOCATION:Connie Gotsch Theatre
SUMMARY;LANGUAGE=en-us:Saturday Afternoon at the Movies - Kids' Day
UID:664e495e6f86bd0005daa47df3973f20@www.sanjuancollege.edu
END:VEVENT
END:VCALENDAR

