BEGIN:VCALENDAR
VERSION:2.0
BEGIN:VEVENT
CATEGORIES:Category,Community Events,Category,Student Events,Location, Outside the Student Resource Center, Room 1612
DESCRIPTION:Community Resource Event People Assisting the Homeless (PATH) will be on campus to share information about their emergency homeless shelter and the additional guidance and support they provide to individuals experiencing homelessness. Stop by to learn about available resources and connect with community support services. Date March 25, 2026 Time 11:00 a.m. - 1:00 p.m. Location &nbsp;Outside the Student Resource Center, Room 1612
DTSTAMP:20260423T025902
DTSTART:20260325T110000
DTEND:20260325T130000
LOCATION: Outside the Student Resource Center, Room 1612
SUMMARY;LANGUAGE=en-us:People Assisting the Homeless (PATH) 
UID:806afa30257954ef6dc0c8ed53bd0e98@www.sanjuancollege.edu
END:VEVENT
END:VCALENDAR

