BEGIN:VCALENDAR
VERSION:2.0
BEGIN:VEVENT
CATEGORIES:Category,Community Events,Category,Sports & Recreation,Category,Student Events,Location,Totah Theatre
DESCRIPTION:Reel Rock Viewing @ the Totah Theatre $5 Per person Registration is at the HHPC Service Desk or by calling 505-566-3487 or 505-566-3221
DTSTAMP:20260423T061952
DTSTART:20240309T193000
DTEND:20240309T220000
LOCATION:Totah Theatre
SUMMARY;LANGUAGE=en-us:Survivor Series - Reel Rock Viewing
UID:b3b004c53a2638648ee43f055413380d@www.sanjuancollege.edu
END:VEVENT
END:VCALENDAR

