BEGIN:VCALENDAR
VERSION:2.0
BEGIN:VEVENT
CATEGORIES:Category,Cinematheque,Category,Community Events,Category,Fine and Performing Arts,Category,Student Events,Location,Connie Gotsch Theatre,featured,Yes
DESCRIPTION:Not Rated. Classic German Expressionism horror film pioneered the use of colored film as a story element to indicate time of day and mood. This was done by adding dye to the film. It also departs from the traditional silent film style of acting to more natural and contemporary style.&nbsp;The Bat&nbsp;(1926) Not Rated. Mystery/Thriller. American silent comedy based on the 1920 Broadway hit play. Pre-show talk by Jennifer Goodland - SJC Reference &amp; Instruction Librarian Come dressed in Black to enjoy these horror film classics! Water and Popcorn available for purchase. Bring your own water bottle to fill and receive a free popcorn! Admissions  General Public: $5  Buy Tickets Date October 11, 2025 Time 6:00 p.m. - Preshow &amp; Showtime Location Connie Gotsch Theatre
DTSTAMP:20260423T092129
DTSTART:20251011T180000
DTEND:20251011T200000
LOCATION:Connie Gotsch Theatre
SUMMARY;LANGUAGE=en-us:Double Feature Movie Night - Nosferatu (1922) &amp; The Bat (1926)
UID:f51055dbdb8082ad879fe8c4fc846ec0@www.sanjuancollege.edu
END:VEVENT
END:VCALENDAR

