BEGIN:VCALENDAR
VERSION:2.0
BEGIN:VEVENT
CATEGORIES:Category,Community Events,Category,Student Events,Location,Suns Lounge Room 1608
DESCRIPTION:3.14159265359 Join us to celebrate Pi-day, the mathematical constant 3.14. Pi-constant recitation contest starts at 12:30 p.m.   How many digits of pi can you remember?  Pies and crafts will be provided Wear your math gear!  Date March 13, 2026 Time 12:00 p.m. - 1:00 p.m.&nbsp; Location Suns Lounge Room 1608
DTSTAMP:20260419T080324
DTSTART:20260313T120000
DTEND:20260313T130000
LOCATION:Suns Lounge Room 1608
SUMMARY;LANGUAGE=en-us:Celebrate Pi-Day
UID:cec826038f9042bec9720cecc402e9d5@www.sanjuancollege.edu
END:VEVENT
END:VCALENDAR

