BEGIN:VCALENDAR
VERSION:2.0
BEGIN:VEVENT
CATEGORIES:Category,Community Events,Category,Sports & Recreation,Category,Student Events,Location,Ropes Challenge Course at San Juan College
DESCRIPTION:Conquer the Challenge Course! The challenge will include a giant swing, net leap, and an alpine tower for you to master. You can learn to belay with an afternoon on the Challenge Course.  10 year age requirement. 250lbs weight limit.  Cost: $20 per person 12 people per session&nbsp; There are two sessions available on Saturday, April 13th.&nbsp;  Call 505-566-3487 to reserve your time during the 2:00pm or 4:00pm slots now!
DTSTAMP:20260423T062029
DTSTART:20240413T140000
DTEND:20240413T160000
LOCATION:Ropes Challenge Course at San Juan College
SUMMARY;LANGUAGE=en-us:Survival at the Challenge Course
UID:fb5b269198fc492261d078d55e740974@www.sanjuancollege.edu
END:VEVENT
END:VCALENDAR

