BEGIN:VCALENDAR
VERSION:2.0
BEGIN:VEVENT
CATEGORIES:Category,Community Events,Category,Sports & Recreation,Category,Student Events,Location,HHPC Climbing Wall
DESCRIPTION:Imagine being on a hike into Rainbow Bridge Then being alone, lost, hot, cold, afraid, and barely alive. John Hosteen will unfold the entire experience with activities with this free event. 6 pm Introductions of Hot Too Cold and Survival Events 6:15 pm John Hosteen Q &amp; A 6:45 pm Backpacking activity What to Learn: Packing your bag. What should go in your pack? Weight distribution. Issues that may occur. Listen in and bring your Backpacking Pack and water bottle to learn how to pack your bag for those expeditions or camping trips. Preparation in Practice- what to do when it happens in the field or on a trip. LNT. Wilderness First Aid Safety- importance. education. practice &nbsp;
DTSTAMP:20260423T061910
DTSTART:20240320T180000
DTEND:20240320T200000
LOCATION:HHPC Climbing Wall
SUMMARY;LANGUAGE=en-us:Hot Too Cold w/ John Hosteen
UID:c42a07e026a5db6228c3711b8bdb5c74@www.sanjuancollege.edu
END:VEVENT
END:VCALENDAR

