BEGIN:VCALENDAR
VERSION:2.0
BEGIN:VEVENT
CATEGORIES:Category,Career Center,Category,Community Events,Category,Student Events,Location,School of Energy - Merrion Rooms
DESCRIPTION:Information Sessions Date October 21, 2024 Time 12:30 pm-1:30 pm &amp; 5:00 pm-6:00 pm Location School of Energy - Merrion Rooms For additional information contact Center for Student Careers and Employment at 505-566-3423 or careercenter@sanjuancollege.edu&nbsp;
DTSTAMP:20260423T062202
DTSTART:20241021T123000
DTEND:20241021T133000
LOCATION:School of Energy - Merrion Rooms
SUMMARY;LANGUAGE=en-us:Chevron On Campus Recruiting - Information Sessions
UID:dd79a0c5628e7ada8c965fbaa0915f93@www.sanjuancollege.edu
END:VEVENT
END:VCALENDAR

