BEGIN:VCALENDAR
VERSION:2.0
BEGIN:VEVENT
CATEGORIES:Category,Career Center,Category,Community Events,Category,Student Events,Location,School of Energy - Merrion Rooms
DESCRIPTION:Mock Interviews Date October 22, 2024 Time Sign up for a mock interview at the info session. Location School of Energy - Merrion Rooms For additional information contact Center for Student Careers and Employment at 505-566-3423 or careercenter@sanjuancollege.edu&nbsp;
DTSTAMP:20260423T091945
DTSTART:20241022T080000
DTEND:20241022T170000
LOCATION:School of Energy - Merrion Rooms
SUMMARY;LANGUAGE=en-us:Chevron On Campus Recruiting - On Campus Interviews
UID:89dddcfb8afcfc4340a5ad0c2eaa7aa2@www.sanjuancollege.edu
END:VEVENT
END:VCALENDAR

