BEGIN:VCALENDAR
VERSION:2.0
BEGIN:VEVENT
CATEGORIES:Category,Community Events,Category,Student Events,Location,School or Energy Merrion Rooms
DESCRIPTION:Attend ABB information sessions to learn about career opportunities. Check out current job opportunities @ ABB Dates April 16, 2025 Time 4:30 p.m. - 6:30 p.m. Location School of Energy Merrion Rooms For additional information contact Center for Student Careers and Employment at 505-566-3423 or careercenter@sanjuancollege.edu&nbsp;
DTSTAMP:20260423T092136
DTSTART:20250416T163000
DTEND:20250416T183000
LOCATION:School or Energy Merrion Rooms
SUMMARY;LANGUAGE=en-us:ABB On Campus Recruiting
UID:7843e5177275d9bf39809f7c7421ee9a@www.sanjuancollege.edu
END:VEVENT
END:VCALENDAR

