BEGIN:VCALENDAR
VERSION:2.0
BEGIN:VEVENT
CATEGORIES:Category,Art Gallery,Category,Community Events,Category,Fine and Performing Arts,Category,Student Events,Location,Henderson Fine Arts Center Gallery,featured,Yes
DESCRIPTION:Meet our talented SJC instructors from the Art Education and Studio Arts Program! Our faculty and staff explore the three-dimensional and two-dimensional realms of Art. Each of their work reflect years of pure dedication, skill, creativity and innovation. Allow their visual rhythms of color and imagery to bring soothing music to your eyes. You are welcome to take home their exquisite Art for sale or learn their techniques by enrolling in their course! Opening Reception Tuesday, August 26, 2025 3 - 5 p.m. The Gallery is open during the reception. Gallery Hours The Henderson Fine Arts Center Art Gallery is open Monday through Friday, from 10 a.m. to 5 p.m. and during most events in the Henderson Performance Hall. Contact For further information about this exhibit or other Gallery events, contact the&nbsp;Art Gallery&nbsp;at 505-566-3464.
DTSTAMP:20260423T061820
DTSTART:20250818T100000
DTEND:20250919T170000
LOCATION:Henderson Fine Arts Center Gallery
SUMMARY;LANGUAGE=en-us:SJC Art Faculty &amp; Staff Exhibition
UID:35c9e604ce9bc12a32d0aaa1fc6a98df@www.sanjuancollege.edu
END:VEVENT
END:VCALENDAR

