BEGIN:VCALENDAR
VERSION:2.0
BEGIN:VEVENT
CATEGORIES:Category,Community Events,Category,Student Events,Location,West Classroom Complex Room 1824
DESCRIPTION:How much money will I make? Curious about your future career prospects? Join us for an enlightening event where we'll address common questions like:  Will I have to relocate? What's the demand for this career? What level of education do I need? What do people do in this job?  Don't miss out on this opportunity to gain valuable information and clarity about your future career path.&nbsp; Join us for a Career Exploration Workshop in person or virtually For more information contact Center for Student Careers and Employment careercenter@sanjuancollege.edu or 505-566-3423
DTSTAMP:20260423T035052
DTSTART:20240312T153000
DTEND:20240312T163000
LOCATION:West Classroom Complex Room 1824
SUMMARY;LANGUAGE=en-us:Career Exploration Workshop
UID:84f357181ed2fce3c2d0afed37a1253f@www.sanjuancollege.edu
END:VEVENT
END:VCALENDAR

