BEGIN:VCALENDAR
VERSION:2.0
BEGIN:VEVENT
CATEGORIES:Category,Community Events,Category,Student Events,Location,Suns Room near Mary's Kitchen
DESCRIPTION:Donuts &amp; Resumes Join us where you can indulge in delicious donuts while taking the next step towards your dream career! Why Attend?  Elevate your resume to stand out in a competitive job market. Expand your professional network and make meaningful connections. Gain valuable insights to propel your career forward.  For more information contact Center for Student Careers and Employment careercenter@sanjuancollege.edu or 505-566-3423
DTSTAMP:20260423T061733
DTSTART:20250408T090000
DTEND:20250408T120000
LOCATION:Suns Room near Mary's Kitchen
SUMMARY;LANGUAGE=en-us:Donuts &amp; Resumes
UID:3245561f455a1b1c15642bc93db2bf53@www.sanjuancollege.edu
END:VEVENT
END:VCALENDAR

