BEGIN:VCALENDAR
VERSION:2.0
BEGIN:VEVENT
CATEGORIES:Category,Community Events,Category,Dual Credit Info Sessions,Category,Student Events,Location,30th Street building, room 208
DESCRIPTION:Dual Credit Information Session &amp; Enrollment Assistance for Spring 2025 Who Should Attend? Students planning to enroll in Dual Credit classes for Spring 2025. What to Expect:  Explore San Juan College's Career Pathways and Dual Credit Classes. Get hands-on help with the Dual Credit Enrollment process. Learn how to register for College Classes for Spring 2025.  Dates &amp; Locations:  Wednesday, January 8th, 6:00 pm 30th&nbsp;Street building, room 208  Important Reminder: Please bring a Parent/Guardian's Email and your social security number (if available). We're here to support your educational journey. Don't miss out&mdash;save the date and join us! For additional information please contact 505-566-3443.&nbsp;
DTSTAMP:20260423T062239
DTSTART:20250108T180000
DTEND:20250108T200000
LOCATION:30th&nbsp;Street building, room 208
SUMMARY;LANGUAGE=en-us:Dual Credit Information Session &amp; Enrollment Assistance for Spring 2025
UID:0cc630677f992ed6a3418a8535f71696@www.sanjuancollege.edu
END:VEVENT
END:VCALENDAR

