BEGIN:VCALENDAR
VERSION:2.0
BEGIN:VEVENT
CATEGORIES:Category,Community Events,Category,Sports & Recreation,Category,Student Events,Location,HHPC, Bisti Badlands
DESCRIPTION:Adventure Awaits: Explore Bisti Badlands with San Juan College Outdoor Excursion! Here's what's in store for you: 8:00 am - Meet at Outdoor Equipment Rental Center (OREC) 8:30 am - Load vans and depart for Bisti Badlands, ~ 40 miles south of Farmington on Hwy 371 9:30am - Arrive at Bisti Badlands trail head.&nbsp;Check-in and begin to hike. Destinations on this hike are flexible, depending on the weather, participant preferences and fitness, and appropriate gear.&nbsp; 12 noon - Lunch 3:00 pm - Departure back to SJC is flexible, depending on interest, weather, and participant preferences.&nbsp; 4:00 pm - Latest arrival back to San Juan College, Outdoor Equipment Rental Center at the HHPC. Sign up today! Contact: Roman McCabe 505-566-3487 or&nbsp;mccaber@sanjuancollege.edu Cost: FREE to San Juan College Students $20 for Community Members
DTSTAMP:20260424T092244
DTSTART:20240427T080000
DTEND:20240427T160000
LOCATION:HHPC, Bisti Badlands
SUMMARY;LANGUAGE=en-us:Bisti Badlands Trip
UID:ce823ca5b2a09b6946333f4508c4273e@www.sanjuancollege.edu
END:VEVENT
END:VCALENDAR

