BEGIN:VCALENDAR
VERSION:2.0
BEGIN:VEVENT
CATEGORIES:Category,Community Events,Category,Sports & Recreation,Category,Student Events,Location,HHPC, Chaco Canyon
DESCRIPTION:Explore Chaco Canyon: An Outdoor Adventure! Here's what's in store for you: 8:00 am - Meet at Outdoor Equipment Rental Center 8:20am - Depart HHPC for Chaco Canyon 10:30 am - Arrive Chaco Canyon Visitor Center 10:45am- 2:15 pm - Begin Trails: Chetro Ketl, Pueblo Bonito and Kin Kletso trail 12-1:00 pm - Lunch at picnic tables 2:30 pm - Load up van to return to SJC  4:30 pm - Arrive back at SJC Sign up today! Contact: Roman McCabe 505-566-3487 or&nbsp;mccaber@sanjuancollege.edu Cost: FREE to San Juan College Students $20 for Community Members
DTSTAMP:20260423T092903
DTSTART:20240405T080000
DTEND:20240405T163000
LOCATION:HHPC, Chaco Canyon
SUMMARY;LANGUAGE=en-us:Chaco Canyon Hike Trip
UID:8d12462edb7dc09e58f52b193eed89ba@www.sanjuancollege.edu
END:VEVENT
END:VCALENDAR

