BEGIN:VCALENDAR
VERSION:2.0
BEGIN:VEVENT
CATEGORIES:Category,Employee Events,Location,Rooms 9008 and 9010
DESCRIPTION:Join us and Vote for your favorite Dessert! Exclusive to SJC Employees. Show Off Your Sweet Skills: Enter the Spring 2024 Dessert Fest! Register today to become a contestant before March 28th at 12 p.m. to have your dessert entered into the Dessert fest Competition! (You may need to login to OneDrive).&nbsp;  Contestants must bring enough of their dessert so they can offer samples. Sample size and quantity may determine the outcome of voting. Please bring your Desserts to Room 9008 and 9010 between 10:00 A.M. and 11:00 A.M. Each contestant will receive a Commemorative Spring 2024 Dessert Fest Apron.&nbsp;  Trophies will be awarded to First, Second, and Third Place in the Two Categories of &ldquo;Back to Basics&rdquo; &amp; &ldquo;The Next Best Thing&rdquo;. Contestant Registration Form For more information please contact Kris Kraly (Faculty Association), Harley Prinster (Support Staff Association), and/or Amanda Jones (Professional Staff Association). Organized by the folks that brought you Salsa Fest!
DTSTAMP:20260423T091941
DTSTART:20240401T113000
DTEND:20240401T133000
LOCATION:Rooms 9008 and 9010
SUMMARY;LANGUAGE=en-us:Employee Event: 2024 Spring Dessert Fest
UID:46dabf38d6135ce0b63157bb1bc65184@www.sanjuancollege.edu
END:VEVENT
END:VCALENDAR

