BEGIN:VCALENDAR
VERSION:2.0
BEGIN:VEVENT
CATEGORIES:Category,Dual Credit Orientation,Location,Henderson Fine Arts Center Rooms 9008-9010
DESCRIPTION:Dual Credit Orientations for Spring 2026 Attending an orientation is essential to learning how to start your Spring class and is critical to your success in the college environment. Sessions are led by Dual Credit Student Ambassadors (Experienced High School Students). Parents/family/mentors are welcome to join their student. Orientation Agenda  How to log in to your class Discuss the differences between college &amp; high school An overview of student resources &amp; MORE!  Dates &amp; Times January 17, 2026 @ 1:00 p.m. - 2:30 p.m.&nbsp;January 20, 2026 @ 6:00 p.m. - 7:30 p.m. Location Henderson Fine Arts Center Rooms 9008-9010 New Student Orientation Online You will need your student ID number and student email to register!&nbsp; If you experience issues accessing or completing your orientation, please contact the Student Resource Center. Register and Begin Online Orientation Today! For additional information please contact 505-566-3443.&nbsp;
DTSTAMP:20260423T062202
DTSTART:20260117T130000
DTEND:20260117T143000
LOCATION:Henderson Fine Arts Center Rooms 9008-9010
SUMMARY;LANGUAGE=en-us:Dual Credit Orientations for Spring 2026
UID:0b55c7b7ac6ca7cd24b88eed1de00d82@www.sanjuancollege.edu
END:VEVENT
END:VCALENDAR

