BEGIN:VCALENDAR
VERSION:2.0
BEGIN:VEVENT
CATEGORIES:Category,Dual Credit Orientation,Location,30th Street Education Center, Room 208
DESCRIPTION:Dual Credit Orientations for Spring 2025 Attending an orientation is essential to learning how to start your Spring class and is critical to your success in the college environment. Sessions are led by Dual Credit Student Ambassadors (Experienced High School Students). Parents/family/mentors are welcome to join their student. Orientation Agenda  How to log in to your class Discuss the differences between college &amp; high school An overview of student resources &amp; MORE!  Date January 13, 2025 Time 6:00 p.m. Location 30th Street Education Center, Room 208&nbsp;(please bring your laptops) For additional information please contact 505-566-3443.&nbsp;
DTSTAMP:20260423T062105
DTSTART:20250113T180000
DTEND:20250113T200000
LOCATION:30th Street Education Center, Room 208
SUMMARY;LANGUAGE=en-us:Dual Credit Orientations for Spring 2025
UID:2fe2018c9c3eb6c1cd40d9a3ecb90d52@www.sanjuancollege.edu
END:VEVENT
END:VCALENDAR

