BEGIN:VCALENDAR
VERSION:2.0
BEGIN:VEVENT
CATEGORIES:Category,Dual Credit Orientation,Location,Zoom
DESCRIPTION:Dual Credit Orientations for Spring 2025 Attending an orientation is essential to learning how to start your Spring class and is critical to your success in the college environment. Sessions are led by Dual Credit Student Ambassadors (Experienced High School Students). Parents/family/mentors are welcome to join their student. Orientation Agenda  How to log in to your class Discuss the differences between college &amp; high school An overview of student resources &amp; MORE!  Date January 14, 2025 Time 6:00 p.m. Location Zoom For additional information please contact 505-566-3443.&nbsp;
DTSTAMP:20260423T062935
DTSTART:20250114T180000
DTEND:20250114T200000
LOCATION:Zoom
SUMMARY;LANGUAGE=en-us:Dual Credit Orientations for Spring 2025
UID:fc585b42dac4388133a7115a40a9960a@www.sanjuancollege.edu
END:VEVENT
END:VCALENDAR

