BEGIN:VCALENDAR
VERSION:2.0
BEGIN:VEVENT
CATEGORIES:Category,Dual Credit Orientation,Location,Zia Conference Center
DESCRIPTION:Dual Credit Orientations for Spring 2025 Attending an orientation is essential to learning how to start your Spring class and is critical to your success in the college environment. Sessions are led by Dual Credit Student Ambassadors (Experienced High School Students). Parents/family/mentors are welcome to join their student. Orientation Agenda  How to log in to your class Discuss the differences between college &amp; high school An overview of student resources &amp; MORE!  Date January 18, 2025 Time 1:00 p.m. Location Zia Conference Center For additional information please contact 505-566-3443.&nbsp;
DTSTAMP:20260423T103612
DTSTART:20250118T130000
DTEND:20250118T150000
LOCATION:Zia Conference Center
SUMMARY;LANGUAGE=en-us:Dual Credit Orientations for Spring 2025
UID:d9d063c6587271092e8529f4872500f4@www.sanjuancollege.edu
END:VEVENT
END:VCALENDAR

