BEGIN:VCALENDAR
VERSION:2.0
BEGIN:VEVENT
CATEGORIES:Category,Dual Credit Info Sessions,Category,Student Events,Location,Zia Conference Center
DESCRIPTION:Dual Credit Information Fall 2025 Please bring your Parent/guardian email address and have your Social Security Number (if available). What To Expect  Walk through San Juan College's &nbsp;Career Pathways and Dual Credit classes Help students with the Dual Credit Enrollment process (Online Application and High School Admission Form) Discuss how to get registered for a Summer &amp; Fall 2025 college class  Dates &amp; Times August 11, 2025 @ 7:00 p.m.August 16, 2025 @ 1:00 p.m. Location Zia Conference Center For additional information please contact 505-566-3443.&nbsp;
DTSTAMP:20260423T091848
DTSTART:20250811T190000
DTEND:20250811T203000
LOCATION:Zia Conference Center
SUMMARY;LANGUAGE=en-us:Dual Credit Information Session with Enrollment Help 
UID:ed1013a7df28208393a7e8381c034942@www.sanjuancollege.edu
END:VEVENT
END:VCALENDAR

