BEGIN:VCALENDAR
VERSION:2.0
BEGIN:VEVENT
CATEGORIES:Category,Community Events,Category,Fine and Performing Arts,Category,Music Performances,Category,Student Events,Location,Connie Gotsch Theatre,featured,Yes
DESCRIPTION:Get Jazzified! Come hear unique versions of an iconic pop, get-on-your-feet original Latin, and 50&rsquo;s classic jazz, featuring many arrangements by master arranger Mike Barone, known for his hundreds of arrangements and his work on the Johnny Carson show and TV and film. Featuring Vocalist: Margaret Clair Directed By: John Patton Admissions  General Public: $8 Student: FREE SJC Employees: FREE Senior/Encore/Military: $6  Buy Tickets
DTSTAMP:20260423T062310
DTSTART:20250429T190000
DTEND:20250429T210000
LOCATION:Connie Gotsch Theatre
SUMMARY;LANGUAGE=en-us:SJC Jazz Band Evolution Concert
UID:56e8d106e265fed4c6be75c1de6c607b@www.sanjuancollege.edu
END:VEVENT
END:VCALENDAR

