BEGIN:VCALENDAR
VERSION:2.0
BEGIN:VEVENT
CATEGORIES:Category,Art Gallery,Category,Community Events,Category,Fine and Performing Arts,Category,Student Events,Location,Henderson Fine Arts Center Gallery
DESCRIPTION:As a craftsman and artist, Matthew Bahe's set of work embodies a variety of mediums, from painting to pottery to woodworking. Bahe envisions this exhibition to be like a garden, with different styles and imagery as a metaphor for different types of flowers. Each artwork is its own flower, created to contribute to Bahe's inspirations in a special way and to create a unified whole. Opening Reception Friday, May 3, 2024 4 - 6 p.m. The Gallery is open during the reception. Gallery Hours The Henderson Fine Arts Center Art Gallery is open Monday through Friday, from 10 a.m. to 5 p.m. and during most events in the Henderson Performance Hall. Contact For further information about this exhibit or other Gallery events, contact the&nbsp;Art Gallery&nbsp;at 505-566-3464.
DTSTAMP:20260423T062735
DTSTART:20240503T160000
DTEND:20240531T180000
LOCATION:Henderson Fine Arts Center Gallery
SUMMARY;LANGUAGE=en-us:A Garden of Imagination
UID:de838a04a70eaf89ff18518e30485409@www.sanjuancollege.edu
END:VEVENT
END:VCALENDAR

