BEGIN:VCALENDAR
VERSION:2.0
BEGIN:VEVENT
CATEGORIES:Category,Community Events,Category,Native American Center,Category,Student Events,Location,Suns Lounge
DESCRIPTION:Vibrant Cultures, Histories and Artistic Traditions Although Indigenous Peoples' Day is observed on&nbsp;Monday, join us early for this special occasion! Join us and immerse yourself in a marketplace alive with creativity, as thirty Native American vendors proudly present their handmade arts and crafts. Date October 9, 2025 Time 9:00 a.m. - 6:00 p.m. Location Suns Lounge Call 505-566-3321 for additional information.&nbsp;
DTSTAMP:20260423T062936
DTSTART:20251009T090000
DTEND:20251009T180000
LOCATION:Suns Lounge
SUMMARY;LANGUAGE=en-us:Indigenous Day Arts &amp; Crafts Market
UID:616b5f828296455262e6ecc6ca3f689d@www.sanjuancollege.edu
END:VEVENT
END:VCALENDAR

